BEGIN:VCALENDAR
VERSION:2.0
PRODID:-//American Teilhard Association - ECPv6.15.19//NONSGML v1.0//EN
CALSCALE:GREGORIAN
METHOD:PUBLISH
X-WR-CALNAME:American Teilhard Association
X-ORIGINAL-URL:https://teilharddechardin.org
X-WR-CALDESC:Events for American Teilhard Association
REFRESH-INTERVAL;VALUE=DURATION:PT1H
X-Robots-Tag:noindex
X-PUBLISHED-TTL:PT1H
BEGIN:VTIMEZONE
TZID:UTC
BEGIN:STANDARD
TZOFFSETFROM:+0000
TZOFFSETTO:+0000
TZNAME:UTC
DTSTART:20230101T000000
END:STANDARD
END:VTIMEZONE
BEGIN:VEVENT
DTSTART;TZID=UTC:20240209T000000
DTEND;TZID=UTC:20240211T000000
DTSTAMP:20260425T143121
CREATED:20240116T182817Z
LAST-MODIFIED:20240116T183035Z
UID:2820-1707436800-1707609600@teilharddechardin.org
SUMMARY:Growing in Radiance with Teilhard de Chardin
DESCRIPTION:With Kathleen Duffy\, SSJ \nFrancis House of Prayer\n84 Walnford Road\nAllentown\, NJ 08501 \nOne of the most important capacities for those of us who wish to live a truly mystical life is the ability to see. Openness to the other and to the many sensations in our immediate surroundings deepens our ability to access the radiance of Matter’s inner face as well as our capacity to respond to the Divine Presence we encounter within. As we engage passages from Teilhard’s mystical writings\, we come to know the Cosmic Christ as the source of all Radiance drawing the human family toward the light and stirring up passionate desire to join in the work of creation. \nView the flyer.
URL:https://teilharddechardin.org/event/growing-in-radiance-with-teilhard-de-chardin/
END:VEVENT
END:VCALENDAR