BEGIN:VCALENDAR
VERSION:2.0
PRODID:-//American Teilhard Association - ECPv6.15.19//NONSGML v1.0//EN
CALSCALE:GREGORIAN
METHOD:PUBLISH
X-ORIGINAL-URL:https://teilharddechardin.org
X-WR-CALDESC:Events for American Teilhard Association
REFRESH-INTERVAL;VALUE=DURATION:PT1H
X-Robots-Tag:noindex
X-PUBLISHED-TTL:PT1H
BEGIN:VTIMEZONE
TZID:UTC
BEGIN:STANDARD
TZOFFSETFROM:+0000
TZOFFSETTO:+0000
TZNAME:UTC
DTSTART:20230101T000000
END:STANDARD
END:VTIMEZONE
BEGIN:VEVENT
DTSTART;VALUE=DATE:20240519
DTEND;VALUE=DATE:20240520
DTSTAMP:20260424T095041
CREATED:20240520T160858Z
LAST-MODIFIED:20240520T161025Z
UID:3645-1716076800-1716163199@teilharddechardin.org
SUMMARY:FILM DEBUT! TEILHARD: Visionary Scientist
DESCRIPTION:Film Debut Announcement!\nTEILHARD: Visionary Scientist\nby filmmakers Frank and Mary Frost\nThe new 2-hour biography of Pierre Teilhard de Chardin\, TEILHARD: Visionary\nScientist\, produced by Frank and Mary Frost\, is ready for broadcast! This film tells the\nstory of an early 20th Century French Jesuit priest and scientist\, who\, in relentless\npursuit of the everlasting on earth\, encounters fame\, love\, and implacable opposition\nfrom his church. The film weaves together\, largely in Teilhard’s own words\, themes from\nhis life\, including scientific adventure\, the search for meaning\, unresolved conflict with\nauthority\, the primacy of spirit\, and the power of love.\nBROADCAST DEBUT: May 19\, 2024\, at 4pm (EDT) on Maryland Public Television\n(MPT) NATIONAL STREAMING: May 20\, 2024\, on the free PBS App\, continuing for 2\nyears
URL:https://teilharddechardin.org/event/film-debut-teilhard-visionary-scientist/
ATTACH;FMTTYPE=image/png:https://teilharddechardin.org/wp-content/uploads/Film-Debut-Announcement.png
END:VEVENT
END:VCALENDAR